BEGIN:VCALENDAR
BEGIN:VEVENT
CLASS:PUBLIC
CREATED:20260422T221609
DESCRIPTION:Accompagner l\'évolution psychomotrice de l\'enfant

Réf IPERIA : MIEPJE2018

Durée : 14 heures

Dates :

 	samedi 24 novembre 2018
 	samedi 08 décembre 2018

Horaires : 9h-12 13h-17h

Référent de la formation : Denis Pennec - 05 46 55 14 70

Programme de la formation : IPERIA - MIEPJE2018

Ce stage animé par Christelle-Bois Charpentier se déroulera à la salle ALM des 3 soleils - Rue Grignon de Monfort à Poitiers

Cette formation vous intéresse et vous voulez nous contacter :

Utilisez notre fiche contact

Vous êtes assistant(e) maternel(le) et vous voulez vous inscrire à cette formation :

Bulletin d\'inscription IPERIA
DTEND:20181208T170000
DTSTAMP:20260422T221609
DTSTART:20181208T090000
LAST-MODIFIED:20091109T101015Z
LOCATION:Salle ALM des 3 soleils, Rue Grigon de Montfort, Poitiers, , 86000
SUMMARY;LANGUAGE=en-us:Accompagner l'évolution psychomotrice de l'enfant-2e séance / 2
BEGIN:VALARM
TRIGGER:-PT1440M
ACTION:DISPLAY
DESCRIPTION:Reminder
END:VALARM
END:VEVENT
END:VCALENDAR
