BEGIN:VCALENDAR
BEGIN:VEVENT
CLASS:PUBLIC
CREATED:20260422T221350
DESCRIPTION:Dessinateur en bureau d\'études bâtiment - modélisation 3D - Sketchup

Réf  : BTP3D2

Durée : 106 heures (intégrant le travail en TP)

Dates :

 	Du mardi 13 novembre 2018
 	Au mardi 04 décembre 2018

Horaires : 9h-12h13h-18h

Lieu de formation : Espace Sylvan - 60 rue Albert 1er - 17000 La Rochelle

Programme de la formation : Sketchup

Cette formation vous intéresse et vous voulez nous contacter :

Utilisez notre fiche contact

Formateur : Aurélian Bellou-Bousselaire

Formation éligible CPF - 176617
DTEND:20181123T180000
DTSTAMP:20260422T221350
DTSTART:20181119T090000
LAST-MODIFIED:20091109T101015Z
LOCATION:Espace Sylvan, 60 rue Albert 1er, La Rochelle, , 17000
SUMMARY;LANGUAGE=en-us:Modélisation 3D - Sketchup
BEGIN:VALARM
TRIGGER:-PT1440M
ACTION:DISPLAY
DESCRIPTION:Reminder
END:VALARM
END:VEVENT
END:VCALENDAR
