BEGIN:VCALENDAR
BEGIN:VEVENT
CLASS:PUBLIC
CREATED:20260422T221318
DESCRIPTION:Création et gestion d\'une page Facebook pour une entreprise, référencement naturel et compétences digitales

Réf  : FB3

Durée : 52 heures (intégrant le travail en TP)

Dates :

 	Du vendredi 07 décembre 2018
 	Au vendredi 21 décembre 2018

Horaires : 9h-12h13h-18h

Lieu de formation : Espace Sylvan - 60 rue Albert 1er - 17000 La Rochelle

Programme de la formation : Facebook

Cette formation vous intéresse et vous voulez nous contacter :

Utilisez notre fiche contact

Formateur : Aurélian Bellou-Bousselaire

Formation éligible CPF - 164617
DTEND:20181221T180000
DTSTAMP:20260422T221318
DTSTART:20181217T090000
LAST-MODIFIED:20091109T101015Z
LOCATION:Espace Sylvan, 60 rue Albert 1er, La Rochelle, , 17000
SUMMARY;LANGUAGE=en-us:Création et gestion d'une page Facebook pour une entreprise
BEGIN:VALARM
TRIGGER:-PT1440M
ACTION:DISPLAY
DESCRIPTION:Reminder
END:VALARM
END:VEVENT
END:VCALENDAR
