BEGIN:VCALENDAR
BEGIN:VEVENT
CLASS:PUBLIC
CREATED:20260422T202259
DESCRIPTION:Réaliser un site Internet à partir de WordPress

Réf  : WordPressCréa

Dates :

 	Tous les vendredis

Horaires : 9h-12h13h-18h

Lieu de formation : Espace Sylvan - 60 rue Albert 1er - 17000 La Rochelle ou en FOAD

Programme de la formation : Réaliser et référencer un site Internet à partir de WordPress

Cette formation vous intéresse et vous voulez nous contacter :

Utilisez notre fiche contact

Formateur : Aurélian Bellou-Bousselaire

Formation éligible CPF - 205845
DTEND:20180911T180000
DTSTAMP:20260422T202259
DTSTART:20180914T090000
LAST-MODIFIED:20091109T101015Z
LOCATION:Espace Sylvan, 60 rue Albert 1er, La Rochelle, , 17000
SUMMARY;LANGUAGE=en-us:Réaliser un site Internet à partir de WordPress
BEGIN:VALARM
TRIGGER:-PT1440M
ACTION:DISPLAY
DESCRIPTION:Reminder
END:VALARM
END:VEVENT
END:VCALENDAR
