BEGIN:VCALENDAR
BEGIN:VEVENT
CLASS:PUBLIC
CREATED:20260422T221452
DESCRIPTION:Maîtriser le BIM - Archicad et le travail collaboratif

Réf  : BTP1

Durée : 300 heures

Dates :

 	Du vendredi 14 septembre 2018
 	Au lundi 12 novembre 2018

Horaires : 9h-12h13h-18h

Lieu de formation : Espace Sylvan - 60 rue Albert 1er - 17000 La Rochelle

Programme de la formation : BIM - Archicad

Cette formation vous intéresse et vous voulez nous contacter :

Utilisez notre fiche contact

Formateur : Aurélian Bellou-Bousselaire

Formation éligible CPF - 176617
DTEND:20181102T180000
DTSTAMP:20260422T221452
DTSTART:20181029T090000
LAST-MODIFIED:20091109T101015Z
LOCATION:Espace Sylvan, 60 rue Albert 1er, La Rochelle, , 17000
SUMMARY;LANGUAGE=en-us:Dessinateur en bureau d'études bâtiment - BIM Archicad-stage septembre-nov 2018
BEGIN:VALARM
TRIGGER:-PT1440M
ACTION:DISPLAY
DESCRIPTION:Reminder
END:VALARM
END:VEVENT
END:VCALENDAR
