BEGIN:VCALENDAR
BEGIN:VEVENT
CLASS:PUBLIC
CREATED:20260423T002002
DESCRIPTION: 

L\'apprentissage de la langue des signes française

Réf IPERIA : MILDS2018

Durée : 35 heures

Dates :

 	lundi 17 septembre 2018
 	lundi 24 septembre 2018
 	lundi 01 octobre 2018
 	lundi 08 octobre 2018
 	lundi 15 octobre 2018

Horaires : 9h-12h et 13h-17h

Référent de la formation : Denis PENNEC : 05 46 55 14 70

Vous êtes assistant(e) maternel(le) et vous voulez vous inscrire à  cette formation :

Bulletin d\'inscription IPERIA

Ce stage sera animé par Katy et organisé avec le RAM Les Petits Papillons - Roullet Saint-Estèphe

(Alicia Robbe - 05 45 21 80 19)

Programme de la formation : IPERIA - MILDS2018

Cette formation vous intéresse et vous voulez nous contacter :

Utilisez notre fiche contact
DTEND:20181015T170000
DTSTAMP:20260423T002002
DTSTART:20181015T090000
LAST-MODIFIED:20091109T101015Z
LOCATION:Salle Papillon, Le Berguillet - 3 Route du Sergent Sourbé, Roullet St Estèphe, , 16440
SUMMARY;LANGUAGE=en-us:La langue des signes française - 5e séance / 5
BEGIN:VALARM
TRIGGER:-PT1440M
ACTION:DISPLAY
DESCRIPTION:Reminder
END:VALARM
END:VEVENT
END:VCALENDAR
