BEGIN:VCALENDAR
BEGIN:VEVENT
CLASS:PUBLIC
CREATED:20260422T221350
DESCRIPTION:S\'initier à l\'informatique et à l\'internet

Réf IPERIA : MIIN2018

Durée : 21 heures

Horaires : 9h-12h 13h-17h

Dates :

 	samedi 10 novembre 2018
 	samedi 24 novembre 2018
 	samedi 12 janvier 2019

Référent de la formation : Aurélian Bellou-Bousselaire : 05 46 55 14 70

Programme pédagogique : IPERIA MIIN2018

Cette formation vous intéresse et vous voulez nous contacter :

Utilisez notre fiche contact

Vous êtes assistant(e) maternel(le) et vous voulez vous inscrire à cette formation :

Bulletin d\'inscription IPERIA
DTEND:20181124T170000
DTSTAMP:20260422T221350
DTSTART:20181124T090000
LAST-MODIFIED:20091109T101015Z
LOCATION:Espace Sylvan, 60 Rue Albert 1er, La Rochelle, , 17000
SUMMARY;LANGUAGE=en-us:Stage - S'initier à l'informatique et à l'Internet- 2e séance / 3
BEGIN:VALARM
TRIGGER:-PT1440M
ACTION:DISPLAY
DESCRIPTION:Reminder
END:VALARM
END:VEVENT
END:VCALENDAR
