BEGIN:VCALENDAR
BEGIN:VEVENT
CLASS:PUBLIC
CREATED:20260423T003220
DESCRIPTION: 

Préparation du \"sauveteur secouriste du travail\" (SST)

Réf IPERIA : MISST2018

Durée : 14 heures

Date :

 	samedi 29 septembre 2018
 	samedi 20 octobre 2018

Programme de la formation : IPERIA - MISST2018

Cette formation vous intéresse et vous voulez nous contacter :

Utilisez notre fiche contact

Vous êtes assistant(e) maternel(le) et vous voulez vous inscrire à cette formation :

Bulletin d\'inscription IPERIA

Lieu de formation : Hotel Champlain - La Rochelle
DTEND:20181020T170000
DTSTAMP:20260423T003220
DTSTART:20181020T090000
LAST-MODIFIED:20091109T101015Z
LOCATION:Hotel Champlain, 30 Rue Rambaud, La Rochelle, , 17000
SUMMARY;LANGUAGE=en-us:Stage - SST
BEGIN:VALARM
TRIGGER:-PT1440M
ACTION:DISPLAY
DESCRIPTION:Reminder
END:VALARM
END:VEVENT
END:VCALENDAR
