BEGIN:VCALENDAR
BEGIN:VEVENT
CLASS:PUBLIC
CREATED:20260422T221349
DESCRIPTION: 

Préparation du recyclage \"sauveteur secouriste du travail\" (SST)

Réf IPERIA : MIRSST2018

Durée : 07 heures

Date :

 	samedi 10 novembre 2018

Programme de la formation : IPERIA - MIRSST2018

Cette formation vous intéresse et vous voulez nous contacter :

Utilisez notre fiche contact

Vous êtes assistant(e) maternel(le) et vous voulez vous inscrire à cette formation :

Bulletin d\'inscription IPERIA

Lieu de formation : IBIS Sud - Poitiers
DTEND:20181110T170000
DTSTAMP:20260422T221349
DTSTART:20181110T090000
LAST-MODIFIED:20091109T101015Z
LOCATION:IBIS Sud, 175 av du 8 mai 1945, Poitiers, , 86000
SUMMARY;LANGUAGE=en-us:Stage - Recyclage SST
BEGIN:VALARM
TRIGGER:-PT1440M
ACTION:DISPLAY
DESCRIPTION:Reminder
END:VALARM
END:VEVENT
END:VCALENDAR
