BEGIN:VCALENDAR
BEGIN:VEVENT
CLASS:PUBLIC
CREATED:20260423T221831
DESCRIPTION: 

&quot;Boostez votre score au TOEIC&quot;

Formule stage ou/et cours individuels

Durée du stage : 27 heures * (voir conditions à l&#039;espace Sylvan)

Dates :

 	lundi 05 septembre 2016
 	mardi 06 septembre 2016
 	mercredi 07 septembre 2016
 	jeudi 08 septembre 2016
 	vendredi 09 septembre 2016
 	TOEIC le vendredi AM 09 septembre 2016

Organisation du stage : TOEIC

Cette formation vous intéresse et vous voulez nous contacter :

Utilisez notre fiche contact
DTEND:20160905T180000
DTSTAMP:20260423T221831
DTSTART:20160905T130000
LAST-MODIFIED:20091109T101015Z
LOCATION:Espace Sylvan, 60 rue Albert 1er, La Rochelle, , 17000
SUMMARY;LANGUAGE=en-us:Stage TOEIC
BEGIN:VALARM
TRIGGER:-PT1440M
ACTION:DISPLAY
DESCRIPTION:Reminder
END:VALARM
END:VEVENT
END:VCALENDAR
