BEGIN:VCALENDAR
BEGIN:VEVENT
CLASS:PUBLIC
CREATED:20260423T000846
DESCRIPTION:S\'occuper d\'un enfant en situation de handicap

Réf IPERIA : MIEH2018

Durée : 21 heures

Dates :

 	samedi 20 septembre 2018
 	samedi 06 octobre 2018
 	samedi 20 octobre 2018

Horaires : 9h-12 13h-17h

Référent de la formation : Denis Pennec - 05 46 55 14 70

Programme de la formation : IPERIA - MIEH2018

Ce stage animé par Claire Pironnet - référente handicap dans la Vienne

Cette formation vous intéresse et vous voulez nous contacter :

Utilisez notre fiche contact

Vous êtes assistant(e) maternel(le) et vous voulez vous inscrire à cette formation :

Bulletin d\'inscription IPERIA
DTEND:20181006T170000
DTSTAMP:20260423T000846
DTSTART:20181006T090000
LAST-MODIFIED:20091109T101015Z
LOCATION:, , , , 
SUMMARY;LANGUAGE=en-us:S'occuper d'un enfant en situation de handicap- 2e séance / 3
BEGIN:VALARM
TRIGGER:-PT1440M
ACTION:DISPLAY
DESCRIPTION:Reminder
END:VALARM
END:VEVENT
END:VCALENDAR
