BEGIN:VCALENDAR
BEGIN:VEVENT
CLASS:PUBLIC
CREATED:20260423T002326
DESCRIPTION:Prendre soin de soi pour prendre soin des autres

Réf IPERIA : MIPSS2018

Durée : 14 heures

Dates :

 	samedi 29 septembre 2018
 	samedi 13 octobre 2018

Horaires : 9h-12h13h-17h

Lieu de formation : RAM- Rue Jean Bart - 17440 Aytré

Programme de la formation : Prendre soin de soi pour prendre soin des autres

Cette formation vous intéresse et vous voulez nous contacter :

Utilisez notre fiche contact

Vous êtes assistant(e) maternel(le) et vous voulez vous inscrire à cette formation :

Bulletin d\'inscription IPERIA

Ce stage animé par Stéphanie Albert est organisé avec le RAM \"Pirouette\" d\'Aytré (Anne Saussereau)
DTEND:20180929T170000
DTSTAMP:20260423T002326
DTSTART:20180928T090000
LAST-MODIFIED:20091109T101015Z
LOCATION:Ram , Rue Jean Bart, Aytré, , 17440
SUMMARY;LANGUAGE=en-us:Prendre soin de soi pour prendre soin des autres-1ère séance /2
BEGIN:VALARM
TRIGGER:-PT1440M
ACTION:DISPLAY
DESCRIPTION:Reminder
END:VALARM
END:VEVENT
END:VCALENDAR
