BEGIN:VCALENDAR
BEGIN:VEVENT
CLASS:PUBLIC
CREATED:20260423T001115
DESCRIPTION:Prendre soin de soi pour prendre soin des autres

Réf IPERIA : MIPSS2018

Durée : 14 heures

Dates :

 	samedi 22 septembre 2018
 	samedi 06 octobre 2018

Horaires : 9h-12h13h-17h

Lieu de formation : Salle des fêtes - mairie de Lagord - rue de la Métairie

Programme de la formation : Prendre soin de soi pour prendre soin des autres

Cette formation vous intéresse et vous voulez nous contacter :

Utilisez notre fiche contact

Vous êtes assistant(e) maternel(le) et vous voulez vous inscrire à cette formation :

Bulletin d\'inscription IPERIA

Ce stage sera animé par Stéphanie Albert
DTEND:20181006T170000
DTSTAMP:20260423T001115
DTSTART:20181006T090000
LAST-MODIFIED:20091109T101015Z
LOCATION:Salle des fêtes - mairie de Lagord, rue de la Métairie, Lagord, , 17140
SUMMARY;LANGUAGE=en-us:Prendre soin de soi pour prendre soin des autres-2e séance /2
BEGIN:VALARM
TRIGGER:-PT1440M
ACTION:DISPLAY
DESCRIPTION:Reminder
END:VALARM
END:VEVENT
END:VCALENDAR
