BEGIN:VCALENDAR
BEGIN:VEVENT
CLASS:PUBLIC
CREATED:20260423T052621
DESCRIPTION: 

Gestion du stress et relaxation

Réf IPERIA : MISR2018

Durée : 14 heures

Date :

 	samedi 09 juin 2018
 	samedi 23 juin 2018

Programme de la formation : IPERIA - MISR2018

Cette formation vous intéresse et vous voulez nous contacter :

Utilisez notre fiche contact

Vous êtes assistant(e) maternel(le) et vous voulez vous inscrire à cette formation :

Bulletin d\'inscription IPERIA

Ce stage est organisé avec le RAM d\'Aytré
DTEND:20180609T170000
DTSTAMP:20260423T052621
DTSTART:20180609T090000
LAST-MODIFIED:20091109T101015Z
LOCATION:RAM Aytré, Rue Jean BArt, Aytré, , 17440
SUMMARY;LANGUAGE=en-us:Stage - Gestion du stress et relaxation - MISR2018- 1e séance / 2
BEGIN:VALARM
TRIGGER:-PT1440M
ACTION:DISPLAY
DESCRIPTION:Reminder
END:VALARM
END:VEVENT
END:VCALENDAR
