BEGIN:VCALENDAR
BEGIN:VEVENT
CLASS:PUBLIC
CREATED:20260423T052623
DESCRIPTION:Maîtriser l\'ensembles des fonctionnalités du logiciel Sketchup à destination de l\'architecture

Réf  : Sket2017

Durée : 100 heures - formation blended

 

Dates :

 	Du vendredi 16 mars 2018
 	Au vendredi 27 avril 2018

Horaires : 9h-12h13h-18h

Lieu de formation : Espace Sylvan - 60 rue Albert 1er - 17000 La Rochelle

Programme de la formation : Sketchup

Cette formation vous intéresse et vous voulez nous contacter :

Utilisez notre fiche contact

Formateur : Aurélian Bellou-Bousselaire

Formation éligible CPF - 176617
DTEND:20180420T180000
DTSTAMP:20260423T052623
DTSTART:20180416T090000
LAST-MODIFIED:20091109T101015Z
LOCATION:Espace Sylvan, 60 rue Albert 1er, La Rochelle, , 17000
SUMMARY;LANGUAGE=en-us:Dessinateur en bâtiment et architecture - Sketchup 3D-stage mars-Avril 2018
BEGIN:VALARM
TRIGGER:-PT1440M
ACTION:DISPLAY
DESCRIPTION:Reminder
END:VALARM
END:VEVENT
END:VCALENDAR
