BEGIN:VCALENDAR
BEGIN:VEVENT
CLASS:PUBLIC
CREATED:20260423T052712
DESCRIPTION:En 4 mois, devenez Développeur Intégrateur Référenceur Web
Réf  : DevWebInt

Durée : 520 heures

Dates :

 	Du vendredi 05 janvier 2018
 	Au jeudi 26 avril 2018

Horaires : 9h-12h13h-18h

Lieu de formation : Espace Sylvan - 60 rue Albert 1er - 17000 La Rochelle

Programme de la formation : Programme Digital-Sup

Cette formation vous intéresse et vous voulez nous contacter :

Utilisez notre fiche contact

Formateurs : Aurélian Bellou-Bousselaire - Térence Hervin (Zend Certified-PHP Engineer) - Samuel Renaud
DTEND:20180420T180000
DTSTAMP:20260423T052712
DTSTART:20180416T090000
LAST-MODIFIED:20091109T101015Z
LOCATION:Espace Sylvan, 60 rue Albert 1er, La Rochelle, , 17000
SUMMARY;LANGUAGE=en-us:Digital-Sup.com-Promotion jan-avril 2018
BEGIN:VALARM
TRIGGER:-PT1440M
ACTION:DISPLAY
DESCRIPTION:Reminder
END:VALARM
END:VEVENT
END:VCALENDAR
