BEGIN:VCALENDAR
BEGIN:VEVENT
CLASS:PUBLIC
CREATED:20260423T235946
DESCRIPTION: 

Pour repartir du bon pied en septembre : Mathématiques - Sciences physiques - Anglais

Durée : 30 heures

Dates :

 	du mardi 16 août 2016
 	au vendredi 26 août 2016

Programme de la formation : consolidation scolaire

Ce stage vous intéresse et vous voulez nous contacter :

Utilisez notre fiche contact
DTEND:20160823T120000
DTSTAMP:20260423T235946
DTSTART:20160823T090000
LAST-MODIFIED:20091109T101015Z
LOCATION:Espace Sylvan, 60 rue Albert 1er, La Rochelle, , 17000
SUMMARY;LANGUAGE=en-us:Sylvan Scolaire - Stage de prérentrée
BEGIN:VALARM
TRIGGER:-PT1440M
ACTION:DISPLAY
DESCRIPTION:Reminder
END:VALARM
END:VEVENT
END:VCALENDAR
