BEGIN:VCALENDAR
BEGIN:VEVENT
CLASS:PUBLIC
CREATED:20260423T052759
DESCRIPTION:Maîtriser le logiciel Autocad et ses fonctions avancées

Réf  : Autocad

Durée : 150 heures

Dates :

 	Du mardi 20 mars 2018
 	Au vendredi 20 avril 2018

Horaires : 9h-12h13h-18h

Lieu de formation : Espace Sylvan - 60 rue Albert 1er - 17000 La Rochelle

Programme de la formation : Autocad

Cette formation vous intéresse et vous voulez nous contacter :

Utilisez notre fiche contact

Formateur : Aurélian Bellou-Bousselaire

Formation éligible CPF - 176617
DTEND:20180414T180000
DTSTAMP:20260423T052759
DTSTART:20180409T090000
LAST-MODIFIED:20091109T101015Z
LOCATION:Espace Sylvan, 60 rue Albert 1er, La Rochelle, , 17000
SUMMARY;LANGUAGE=en-us:Dessinateur en bureau d'études bâtiment - AUTOCAD-Mars-Avril 2018
BEGIN:VALARM
TRIGGER:-PT1440M
ACTION:DISPLAY
DESCRIPTION:Reminder
END:VALARM
END:VEVENT
END:VCALENDAR
