BEGIN:VCALENDAR
BEGIN:VEVENT
CLASS:PUBLIC
CREATED:20260422T221620
DESCRIPTION: 

L\'apprentissage de la langue des signes française

Réf IPERIA : MILDS2018

Durée : 35 heures

 

Dates :

 	samedi 15 septembre 2018
 	samedi 29 septembre 2018
 	samedi 13 octobre 2018
 	samedi 10 novembre 2018
 	samedi 24 novembre 2018

Horaires : 9h-12h et 13h-17h

Référent de la formation : Denis PENNEC : 05 46 55 14 70

Vous êtes assistant(e) maternel(le) et vous voulez vous inscrire à  cette formation :

Bulletin d\'inscription IPERIA

Ce stage sera animé par Katy

Programme de la formation : IPERIA - MILDS2018

Cette formation vous intéresse et vous voulez nous contacter :

Utilisez notre fiche contact
DTEND:20181110T170000
DTSTAMP:20260422T221620
DTSTART:20181110T090000
LAST-MODIFIED:20091109T101015Z
LOCATION:Hôtel IBIS Beaulieu, 1 Rue du Bois Dousset, Poitiers, , 86000
SUMMARY;LANGUAGE=en-us:La langue des signes française - 4e séance / 5
BEGIN:VALARM
TRIGGER:-PT1440M
ACTION:DISPLAY
DESCRIPTION:Reminder
END:VALARM
END:VEVENT
END:VCALENDAR
