BEGIN:VCALENDAR
BEGIN:VEVENT
CLASS:PUBLIC
CREATED:20260423T034857
DESCRIPTION:Gérer les situations difficiles

Réf IPERIA : MIGSD2018

Durée : 14 heures

 

Dates :

 	samedi 26 mai 2018
 	samedi 2 juin 2018

Horaires : 9h-12h13h-17h

Lieu de formation : Hôtel IBIS Futuroscope - 2 Avenue Thomas Edison - 86360 Chasseneuil du Poitou

Programme de la formation : Gérer les situations difficiles

Cette formation vous intéresse et vous voulez nous contacter :

Utilisez notre fiche contact

Vous êtes assistant(e) maternel(le) et vous voulez vous inscrire à cette formation :

Bulletin d\'inscription IPERIA

Ce stage sera animé par Stéphanie Albert
DTEND:20180526T170000
DTSTAMP:20260423T034857
DTSTART:20180526T090000
LAST-MODIFIED:20091109T101015Z
LOCATION:Hôtel IBIS Futuroscope, 2 Avenue Thomas Edison, Chasseneuil du Poitou, , 86360
SUMMARY;LANGUAGE=en-us:Gérer les situations difficiles-1ère séance /2
BEGIN:VALARM
TRIGGER:-PT1440M
ACTION:DISPLAY
DESCRIPTION:Reminder
END:VALARM
END:VEVENT
END:VCALENDAR
