BEGIN:VCALENDAR
BEGIN:VEVENT
CLASS:PUBLIC
CREATED:20260423T072121
DESCRIPTION: 

L\'apprentissage de la langue des signes française

Réf IPERIA : MILDS2018

Durée : 35 heures

Dates :

 	lundi 19 février 2018
 	mardi 20 février 2018
 	mercredi 21 février 2018
 	jeudi 22 février 2018
 	vendredi 23 février 2018

Horaires : 9h-12h et 13h-17h

Référent de la formation : Denis PENNEC : 05 46 55 14 70

Vous êtes assistant(e) maternel(le) et vous voulez vous inscrire à  cette formation :

Bulletin d\'inscription IPERIA

Ce stage sera animé par Marie-Laure

Programme de la formation : IPERIA - MILDS2018

Cette formation vous intéresse et vous voulez nous contacter :

Utilisez notre fiche contact
DTEND:20180223T170000
DTSTAMP:20260423T072121
DTSTART:20180219T090000
LAST-MODIFIED:20091109T101015Z
LOCATION:Des mains des liens, 18 avenue de la République, Esnandes, , 17137
SUMMARY;LANGUAGE=en-us:La langue des signes française - stage intensif
BEGIN:VALARM
TRIGGER:-PT1440M
ACTION:DISPLAY
DESCRIPTION:Reminder
END:VALARM
END:VEVENT
END:VCALENDAR
