BEGIN:VCALENDAR
BEGIN:VEVENT
CLASS:PUBLIC
CREATED:20260423T052744
DESCRIPTION: 

Pour bénéficier d\'un accompagnement personnalisé et repartir sur de bonnes bases.

Matières : Mathématiques - Sciences physiques - Anglais - Français

 

Mardi : 16h-18h

Toute l\'année en période scolaire

En savoir plus : consolidation scolaire

Vous voulez nous contacter :

Utilisez notre fiche contact
DTEND:20171217T180000
DTSTAMP:20260423T052744
DTSTART:20180109T160000
LAST-MODIFIED:20091109T101015Z
LOCATION:Espace Sylvan, 60 rue Albert 1er, La Rochelle, , 17000
SUMMARY;LANGUAGE=en-us:Sylvan Scolaire - Consolidation et soutien scolaire
BEGIN:VALARM
TRIGGER:-PT1440M
ACTION:DISPLAY
DESCRIPTION:Reminder
END:VALARM
END:VEVENT
END:VCALENDAR
