BEGIN:VCALENDAR
BEGIN:VEVENT
CLASS:PUBLIC
CREATED:20260423T034905
DESCRIPTION: 

\"Boostez votre score au TOEIC\"

Formule stage ou/et cours individuels

Durée du stage : 27 heures * (voir conditions à l\'espace Sylvan)

 

Dates :

 	le vendredi après midi

Organisation du stage : TOEIC

Cette formation vous intéresse et vous voulez nous contacter :

Utilisez notre fiche contact
DTEND:20171217T160000
DTSTAMP:20260423T034905
DTSTART:20180112T130000
LAST-MODIFIED:20091109T101015Z
LOCATION:Espace Sylvan, 60 rue Albert 1er, La Rochelle, , 17000
SUMMARY;LANGUAGE=en-us:Préparation TOEIC-TOEFL
BEGIN:VALARM
TRIGGER:-PT1440M
ACTION:DISPLAY
DESCRIPTION:Reminder
END:VALARM
END:VEVENT
END:VCALENDAR
