BEGIN:VCALENDAR
BEGIN:VEVENT
CLASS:PUBLIC
CREATED:20260423T055047
DESCRIPTION:Maîtriser les fonctionnalités principales et avancées d\'Illustrator

Réf  : PAO0

Durée : 88 heures

 

Dates :

 	Du mercredi 21 février 2018
 	Au jeudi 22 mars 2018

Horaires : 9h-12h13h-18h

Lieu de formation : Espace Sylvan - 60 rue Albert 1er - 17000 La Rochelle

Programme de la formation : TOSA Illustrator

Cette formation qui fait partie du module 2 de la formation Infographie multimédia (Photoshop-Illustrator-In design) vous intéresse et vous voulez nous contacter :

Utilisez notre fiche contact

Formateur : Aurélian Bellou-Bousselaire

Formation éligible CPF - TOSA Illustrator
DTEND:20180302T180000
DTSTAMP:20260423T055047
DTSTART:20180226T090000
LAST-MODIFIED:20091109T101015Z
LOCATION:Espace Sylvan, 60 rue Albert 1er, La Rochelle, , 17000
SUMMARY;LANGUAGE=en-us:Infographiste multimédia-TOSA Illustrator-stage fév-mars 2018
BEGIN:VALARM
TRIGGER:-PT1440M
ACTION:DISPLAY
DESCRIPTION:Reminder
END:VALARM
END:VEVENT
END:VCALENDAR
