BEGIN:VCALENDAR
BEGIN:VEVENT
CLASS:PUBLIC
CREATED:20260423T072013
DESCRIPTION:Activités ludiques et éveil sensoriel

Réf IPERIA : MIALES2018

Durée : 14 heures

 

Dates :

 	samedi 13 janvier 2018
 	samedi 27 janvier 2018

Horaires : 9h-12h13h30-17h30

Lieu de formation : Espace Sylvan - 60 rue Albert 1er - 17000 La Rochelle

Programme de la formation : Activités ludiques et éveil sensoriel

Cette formation vous intéresse et vous voulez nous contacter :

Utilisez notre fiche contact

Vous êtes assistant(e) maternel(le) et vous voulez vous inscrire à cette formation :

Bulletin d\'inscription IPERIA

Ce stage sera animé par Bruno Benoist

Site Internet de Bruno : Compagnie Alméria
DTEND:20180127T173000
DTSTAMP:20260423T072013
DTSTART:20180127T090000
LAST-MODIFIED:20091109T101015Z
LOCATION:Espace Sylvan, 60 rue Albert 1er, La Rochelle, , 17000
SUMMARY;LANGUAGE=en-us:Activités ludiques et éveil sensoriel-2e séance /2
BEGIN:VALARM
TRIGGER:-PT1440M
ACTION:DISPLAY
DESCRIPTION:Reminder
END:VALARM
END:VEVENT
END:VCALENDAR
