BEGIN:VCALENDAR
BEGIN:VEVENT
CLASS:PUBLIC
CREATED:20260423T071947
DESCRIPTION:Gestion du stress et relaxation

Réf IPERIA : MISR2018

Durée : 14 heures

 

Dates :

 	samedi 20 janvier 2018
 	samedi 03 février 2018

Horaires : 9h-12h13h30-17h30

Lieu de formation : Salle Gaston Gaillard -  9 Rue Gaston Gaillard -17140 Lagord

Programme de la formation : Gestion du stress et relaxation

Cette formation vous intéresse et vous voulez nous contacter :

Utilisez notre fiche contact

Vous êtes assistant(e) maternel(le) et vous voulez vous inscrire à cette formation :

Bulletin d\'inscription IPERIA

Ce stage sera animé par Stéphanie Albert
DTEND:20180120T173000
DTSTAMP:20260423T071947
DTSTART:20180120T090000
LAST-MODIFIED:20091109T101015Z
LOCATION:Salle Gaston Gaillard, 9 Rue Gaston Gaillard, Lagord, , 17140
SUMMARY;LANGUAGE=en-us:Gestion du stress et relaxation - 1ère séance /2
BEGIN:VALARM
TRIGGER:-PT1440M
ACTION:DISPLAY
DESCRIPTION:Reminder
END:VALARM
END:VEVENT
END:VCALENDAR
