BEGIN:VCALENDAR
BEGIN:VEVENT
CLASS:PUBLIC
CREATED:20260423T053811
DESCRIPTION:Favoriser la bientraitance envers les enfants

Réf IPERIA : MIBE2018

Durée : 21 heures

 

Dates :

 	samedi 27 janvier 2018
 	samedi 10 mars 2018
 	samedi 24 mars 2018

Horaires : 9h-12h13h30-17h30

Lieu de formation : Hôtel IBIS Beaulieu - 1 Rue du Bois Dousset -86000 Poitiers

Programme de la formation : Favoriser la bientraitance envers les enfants

Cette formation vous intéresse et vous voulez nous contacter :

Utilisez notre fiche contact

Vous êtes assistant(e) maternel(le) et vous voulez vous inscrire à cette formation :

Bulletin d\'inscription IPERIA

Ce stage sera animé par Claire Boutillier

Claire Boutillier
DTEND:20180324T173000
DTSTAMP:20260423T053811
DTSTART:20180324T090000
LAST-MODIFIED:20091109T101015Z
LOCATION:Hôtel IBIS Beaulieu, 1 Rue du Bois Dousset , Poitiers, , 86000
SUMMARY;LANGUAGE=en-us:Favoriser la bientraitance envers les enfants MIBE2018 - 3e séance /3
BEGIN:VALARM
TRIGGER:-PT1440M
ACTION:DISPLAY
DESCRIPTION:Reminder
END:VALARM
END:VEVENT
END:VCALENDAR
