BEGIN:VCALENDAR
BEGIN:VEVENT
CLASS:PUBLIC
CREATED:20260423T052800
DESCRIPTION:L\'apprentissage de la langue des signes française

Réf IPERIA : MILDS2018

Durée : 35 heures

Dates :

 	samedi 20 janvier 2018
 	samedi 03 mars 2018
 	samedi 10 mars 2018
 	samedi 24 mars 2018
 	samedi 07 avril 2018

Horaires : 9h-12h et 13h30-17h30

Référent de la formation : Denis PENNEC : 05 46 55 14 70

Vous êtes assistant(e) maternel(le) et vous voulez vous inscrire à  cette formation :

Bulletin d\'inscription IPERIA

Ce stage sera animé par Carol

Programme de la formation : IPERIA - MILDS2018

Cette formation vous intéresse et vous voulez nous contacter :

Utilisez notre fiche contact
DTEND:20180407T173000
DTSTAMP:20260423T052800
DTSTART:20180407T090000
LAST-MODIFIED:20091109T101015Z
LOCATION:Hotel IBIS Beaulieu, 1 Rue du Bois Dousset , Poitiers, , 86000
SUMMARY;LANGUAGE=en-us:Apprentissage de la langue des signes française - 5e séance / 5
BEGIN:VALARM
TRIGGER:-PT1440M
ACTION:DISPLAY
DESCRIPTION:Reminder
END:VALARM
END:VEVENT
END:VCALENDAR
