BEGIN:VCALENDAR
BEGIN:VEVENT
CLASS:PUBLIC
CREATED:20260423T072012
DESCRIPTION:Accompagner l\'évolution psychomotrice de l\'enfant

Réf IPERIA : MIEPJE2018

Durée : 14 heures

 

Dates :

 	samedi 20 janvier 2018
 	samedi 03 février 2018

Horaires : 9h-12 13h30-17h30

Référent de la formation : Denis Pennec - 05 46 55 14 70

Programme de la formation : IPERIA - MIEPJE2018

Ce stage animé par Christelle-Bois Charpentier est organisé avec le RAM de Vouneuil sous Biard (Cécile Guillaume : 06 08 34 92 66)

Cette formation vous intéresse et vous voulez nous contacter :

Utilisez notre fiche contact

Vous êtes assistant(e) maternel(le) et vous voulez vous inscrire à cette formation :

Bulletin d\'inscription IPERIA
DTEND:20180120T173000
DTSTAMP:20260423T072012
DTSTART:20180120T090000
LAST-MODIFIED:20091109T101015Z
LOCATION:Centre de loisirs - Espace Rive de Boivre, rue des Chatelets, Vouneuil sous Biard, , 86580
SUMMARY;LANGUAGE=en-us:Accompagner l'évolution psychomotrice de l'enfant-1ère séance / 2
BEGIN:VALARM
TRIGGER:-PT1440M
ACTION:DISPLAY
DESCRIPTION:Reminder
END:VALARM
END:VEVENT
END:VCALENDAR
