BEGIN:VCALENDAR
BEGIN:VEVENT
CLASS:PUBLIC
CREATED:20260423T235117
DESCRIPTION: 

L&#039;utilisation de Google  Maps / My Maps

Durée : 8 heures

Dates :

 	mardi 23 août 2016
 	mercredi 24 août 2016

Programme de la formation : Google maps - My maps

Cette formation vous intéresse et vous voulez nous contacter :

Utilisez notre fiche contact
DTEND:20160823T180000
DTSTAMP:20260423T235117
DTSTART:20160823T140000
LAST-MODIFIED:20091109T101015Z
LOCATION:Espace Sylvan, 60 rue Albert 1er, La Rochelle, , 17000
SUMMARY;LANGUAGE=en-us:Formation - Google Map - 1ère séance / 2
BEGIN:VALARM
TRIGGER:-PT1440M
ACTION:DISPLAY
DESCRIPTION:Reminder
END:VALARM
END:VEVENT
END:VCALENDAR
