BEGIN:VCALENDAR
BEGIN:VEVENT
CLASS:PUBLIC
CREATED:20260423T072120
DESCRIPTION: 

S\'occuper d\'un enfant en situation de handicap

Réf IPERIA : MIEH2018

Durée : 21 heures

Dates :

 	samedi 13 janvier 2018
 	samedi 27 janvier 2018
 	samedi 03 février 2018

Horaires : 9h-12 13h30-17h30

Référent de la formation : Denis Pennec - 05 46 55 14 70

Programme de la formation : IPERIA - MIEH2018

Ce stage animé par Claire Pironnet est organisé avec le RAM de Montmorillon (Christine Trouvé : 05 49 91 62 65 )

Cette formation vous intéresse et vous voulez nous contacter :

Utilisez notre fiche contact

Vous êtes assistant(e) maternel(le) et vous voulez vous inscrire à cette formation :

Bulletin d\'inscription IPERIA
DTEND:20180113T173000
DTSTAMP:20260423T072120
DTSTART:20180113T090000
LAST-MODIFIED:20091109T101015Z
LOCATION:Salle Gartempe, 16 Boulevard Terrier Blanc, Montmorillon, , 86500
SUMMARY;LANGUAGE=en-us:S'occuper d'un enfant en situation de handicap-1ère séance / 3
BEGIN:VALARM
TRIGGER:-PT1440M
ACTION:DISPLAY
DESCRIPTION:Reminder
END:VALARM
END:VEVENT
END:VCALENDAR
