BEGIN:VCALENDAR
BEGIN:VEVENT
CLASS:PUBLIC
CREATED:20260423T092118
DESCRIPTION: 

L\'apprentissage de la langue des signes française

Réf IPERIA : MILDS

Durée : 40 heures

Dates :

 	samedi 02 décembre 2017
 	samedi 16 décembre 2017
 	samedi 13 janvier 2018
 	samedi 27 janvier 2018
 	samedi 03 mars 2018

Horaires : 9h-12h et 13h-18h

Référent de la formation : Denis PENNEC : 05 46 55 14 70

Vous êtes assistant(e) maternel(le) et vous voulez vous inscrire à  cette formation :

Bulletin d\'inscription IPERIA

Ce stage animé par Carol est organisé avec Vanessa Refloc\'h(relais La Cabane à René - Cissé)

Programme de la formation : IPERIA - MILDS

Cette formation vous intéresse et vous voulez nous contacter :

Utilisez notre fiche contact
DTEND:20171216T180000
DTSTAMP:20260423T092118
DTSTART:20171216T090000
LAST-MODIFIED:20091109T101015Z
LOCATION:Hôtel IBIS Beaulieu, 1 Rue du Bois Dousset , Poitiers, , 86000
SUMMARY;LANGUAGE=en-us:Stage  - La langue des signes française - MILDS - 2e séance / 5
BEGIN:VALARM
TRIGGER:-PT1440M
ACTION:DISPLAY
DESCRIPTION:Reminder
END:VALARM
END:VEVENT
END:VCALENDAR
