BEGIN:VCALENDAR
BEGIN:VEVENT
CLASS:PUBLIC
CREATED:20260425T105845
DESCRIPTION:Durée de la formation : 300 heures

Formation Blended

Logiciels : Archicad, Autocad, Sketchup,

Dates :

 	du mercredi 20 septembre 2017
 	au vendredi 22 décembre 2017

Programme de la formation : Formation Sketchup

Cette formation vous intéresse et vous voulez nous contacter :

Utilisez notre fiche contact

En savoir plus : voir toutes les formations Sylvan
DTEND:20171029T170000
DTSTAMP:20260425T105845
DTSTART:20171023T130000
LAST-MODIFIED:20091109T101015Z
LOCATION:Espace Sylvan, 60 rue Albert 1er, La Rochelle, , 17000
SUMMARY;LANGUAGE=en-us:Formation - Dessinateur en bureau d'étude - bâtiment
BEGIN:VALARM
TRIGGER:-PT1440M
ACTION:DISPLAY
DESCRIPTION:Reminder
END:VALARM
END:VEVENT
END:VCALENDAR
