BEGIN:VCALENDAR
BEGIN:VEVENT
CLASS:PUBLIC
CREATED:20260423T091955
DESCRIPTION:Eveil sportif et motricité \"Accompagner l\'évolution psychomotrice du jeune enfant\"

Réf IPERIA : MISMP2017

Durée : 16 heures

 

Dates :

 	samedi 04 novembre 2017
 	samedi 18 novembre 2017

Horaires : 9h-12h et 13h-18h

Lieu de formation : cabinet paramédical : 19 avenue du 8 mai 1945 - Poitiers

Référent de la formation : Aurélian Bellou-Bousselaire - responsable pédagogique : 05 46 55 14 70

Cette formation sera animée par Christelle Bois-Charpentier

Programme de la formation : IPERIA - MISMP2017

Cette formation vous intéresse et vous voulez nous contacter :

Utilisez notre fiche contact

Vous êtes assistant(e) maternel(le) et vous voulez vous inscrire à cette formation :

Bulletin d\'inscription IPERIA
DTEND:20171104T180000
DTSTAMP:20260423T091955
DTSTART:20171104T090000
LAST-MODIFIED:20091109T101015Z
LOCATION:Cabinet paramédical, 19 avenue du 8 mai 1945, Poitiers, , 86000
SUMMARY;LANGUAGE=en-us:Eveil sportif et motricité-MISMP2017- 1e séance / 2
BEGIN:VALARM
TRIGGER:-PT1440M
ACTION:DISPLAY
DESCRIPTION:Reminder
END:VALARM
END:VEVENT
END:VCALENDAR
