BEGIN:VCALENDAR
BEGIN:VEVENT
CLASS:PUBLIC
CREATED:20260423T112528
DESCRIPTION: 

\"Boostez votre score au TOEIC\"

Formule stage ou/et cours individuels

Durée du stage : 27 heures * (voir conditions à l\'espace Sylvan)

Dates :

 	lundi 28 aout 2017
 	mardi 29 aout 2017
 	mercredi 30 aout 2017
 	jeudi 31 aout 2017
 	vendredi 01 septembre 2017
 	TOEIC le vendredi AM 01 septembre 2017

Organisation du stage : TOEIC

Cette formation vous intéresse et vous voulez nous contacter :

Utilisez notre fiche contact
DTEND:20170901T170000
DTSTAMP:20260423T112528
DTSTART:20170828T090000
LAST-MODIFIED:20091109T101015Z
LOCATION:Espace Sylvan, 60 rue Albert 1er, La Rochelle, , 17000
SUMMARY;LANGUAGE=en-us:Stage TOEIC
BEGIN:VALARM
TRIGGER:-PT1440M
ACTION:DISPLAY
DESCRIPTION:Reminder
END:VALARM
END:VEVENT
END:VCALENDAR
