BEGIN:VCALENDAR
BEGIN:VEVENT
CLASS:PUBLIC
CREATED:20260423T113523
DESCRIPTION: 

Préparation au TOSA - compétences bureautique : Word-Excel...

Durée : 40 heures en E/S permanente

Dates :

 	du mardi 19 septembre 2017
 	au vendredi 22 décembre 2017

Programme de la formation : Les indispensables de la bureautique

Cette formation vous intéresse et vous voulez nous contacter :

Utilisez notre fiche contact
DTEND:20171029T170000
DTSTAMP:20260423T113523
DTSTART:20171023T130000
LAST-MODIFIED:20091109T101015Z
LOCATION:Espace Sylvan, 60 rue Albert 1er, La Rochelle, , 17000
SUMMARY;LANGUAGE=en-us:Formation - TOSA : Les indispensables de la bureautique
BEGIN:VALARM
TRIGGER:-PT1440M
ACTION:DISPLAY
DESCRIPTION:Reminder
END:VALARM
END:VEVENT
END:VCALENDAR
