BEGIN:VCALENDAR
BEGIN:VEVENT
CLASS:PUBLIC
CREATED:20260423T110457
DESCRIPTION: 

Avec Digital-Sup, devenez en 4 mois : Développeur Intégrateur Web

Durée de la formation : 520 heures

Dates :

 	du lundi 4 septembre 2017
 	au vendredi 22 décembre 2017

Programme de la formation : Développeur Intégrateur Web

Cette formation vous intéresse et vous voulez nous contacter :

Utilisez notre fiche contact

En savoir plus : Site Digital-Sup.com
DTEND:20171029T120000
DTSTAMP:20260423T110457
DTSTART:20171023T090000
LAST-MODIFIED:20091109T101015Z
LOCATION:Espace Sylvan, 60 rue Albert 1er, La Rochelle, , 17000
SUMMARY;LANGUAGE=en-us:Formation - Développeur intégrateur Web
BEGIN:VALARM
TRIGGER:-PT1440M
ACTION:DISPLAY
DESCRIPTION:Reminder
END:VALARM
END:VEVENT
END:VCALENDAR
