BEGIN:VCALENDAR
BEGIN:VEVENT
CLASS:PUBLIC
CREATED:20260423T222037
DESCRIPTION: 

Eveil musical - Perfectionnement Inter culturalité et créativité musicale

Réf IPERIA : MIEMP

Durée : 16 heures

Dates :

 	samedi 24 septembre 2016
 	samedi 08 octobre 2016
 	samedi 15 octobre 2016

Programme de la formation : IPERIA - MIEMP

Cette formation vous intéresse et vous voulez nous contacter :

Utilisez notre fiche contact
DTEND:20160924T170000
DTSTAMP:20260423T222037
DTSTART:20160924T090000
LAST-MODIFIED:20091109T101015Z
LOCATION:Espace Sylvan, 60 rue Albert 1er, La Rochelle, , 17000
SUMMARY;LANGUAGE=en-us:Stage - Eveil musical Perfectionnement - MIEMP - 1ère séance / 3
BEGIN:VALARM
TRIGGER:-PT1440M
ACTION:DISPLAY
DESCRIPTION:Reminder
END:VALARM
END:VEVENT
END:VCALENDAR
