BEGIN:VCALENDAR
BEGIN:VEVENT
CLASS:PUBLIC
CREATED:20260423T130221
DESCRIPTION:Toute l\'équipe Sylvan vous souhaite de bonnes vacances

et sera heureuse de vous retrouver à la rentrée pour de nouvelles formations....:)
DTEND:20170718T234500
DTSTAMP:20260423T130221
DTSTART:20170714T070000
LAST-MODIFIED:20091109T101015Z
LOCATION:, , , , 
SUMMARY;LANGUAGE=en-us:Bonnes vacances
BEGIN:VALARM
TRIGGER:-PT1440M
ACTION:DISPLAY
DESCRIPTION:Reminder
END:VALARM
END:VEVENT
END:VCALENDAR
