BEGIN:VCALENDAR
BEGIN:VEVENT
CLASS:PUBLIC
CREATED:20260425T105415
DESCRIPTION:S\'initier à l\'informatique et à l\'internet

Réf IPERIA : MIIN2017

Durée : 16 heures

Horaires : 9h-12h 13h-18h

Dates :

 	samedi 16 septembre 2017
 	samedi 30 septembre 2017

Référent de la formation : Aurélian Bellou-Bousselaire : 05 46 55 14 70

Programme pédagogique : IPERIA MIIN2017

Cette formation vous intéresse et vous voulez nous contacter :

Utilisez notre fiche contact

Vous êtes assistant(e) maternel(le) et vous voulez vous inscrire à cette formation :

Bulletin d\'inscription IPERIA
DTEND:20170930T180000
DTSTAMP:20260425T105415
DTSTART:20170930T090000
LAST-MODIFIED:20091109T101015Z
LOCATION:Espace Sylvan, 60 Rue Albert 1er, La Rochelle, , 17000
SUMMARY;LANGUAGE=en-us:Stage - S'initier à l'informatique et à l'Internet- 2e séance / 2
BEGIN:VALARM
TRIGGER:-PT1440M
ACTION:DISPLAY
DESCRIPTION:Reminder
END:VALARM
END:VEVENT
END:VCALENDAR
