BEGIN:VCALENDAR
BEGIN:VEVENT
CLASS:PUBLIC
CREATED:20260423T110711
DESCRIPTION: 

Préparation du certificat \"sauveteur secouriste du travail\" (SST) dans le cadre de la prise en charge d\'un enfant

Réf IPERIA : MISST2017

Durée : 16 heures

Dates :

 	samedi 30 septembre 2017
 	samedi 14 octobre 2017

Programme de la formation : IPERIA - MISST

Cette formation vous intéresse et vous voulez nous contacter :

Utilisez notre fiche contact

Vous êtes assistant(e) maternel(le) et vous voulez vous inscrire à cette formation :

Bulletin d\'inscription IPERIA

Ce stage est organisé avec les RAM de Jaunay Clan et St Georges les Bx (Mesdames Catherine Brunet et Hélène Turchetti)
DTEND:20171014T180000
DTSTAMP:20260423T110711
DTSTART:20171014T090000
LAST-MODIFIED:20091109T101015Z
LOCATION:Action Sauvetage, 54 avenue Jacques Cœur, Poitiers, , 86000
SUMMARY;LANGUAGE=en-us:Stage - Préparation du certificat SST- MISST - 2e séance / 2
BEGIN:VALARM
TRIGGER:-PT1440M
ACTION:DISPLAY
DESCRIPTION:Reminder
END:VALARM
END:VEVENT
END:VCALENDAR
