BEGIN:VCALENDAR
BEGIN:VEVENT
CLASS:PUBLIC
CREATED:20260423T112306
DESCRIPTION:Favoriser la bientraitance envers les enfants

Réf IPERIA : MIBE2017

Durée : 24 heures

Dates :

 	samedi 30 septembre 2017
 	samedi 07 octobre 2017
 	samedi 21 octobre 2017

Horaires : 9h-12h 13h-18h

Lieu de formation : Cabinet Claire Boutillier - 19 avenue du 8 mai 1945 -86000 Poitiers

Programme de la formation : Favoriser la bientraitance envers les enfants

Cette formation vous intéresse et vous voulez nous contacter :

Utilisez notre fiche contact

Vous êtes assistant(e) maternel(le) et vous voulez vous inscrire à cette formation :

Bulletin d\'inscription IPERIA

Ce stage sera animé par Claire Boutillier

Claire Boutillier
DTEND:20171007T180000
DTSTAMP:20260423T112306
DTSTART:20171007T090000
LAST-MODIFIED:20091109T101015Z
LOCATION:Cabinet Claire Boutillier, 19 avenue du 8 mai 1945, Poitiers, , 86000
SUMMARY;LANGUAGE=en-us:Favoriser la bientraitance envers les enfants MIBE2017 - 2e séance /3
BEGIN:VALARM
TRIGGER:-PT1440M
ACTION:DISPLAY
DESCRIPTION:Reminder
END:VALARM
END:VEVENT
END:VCALENDAR
