BEGIN:VCALENDAR
BEGIN:VEVENT
CLASS:PUBLIC
CREATED:20260423T110533
DESCRIPTION: 

L\'apprentissage de la langue des signes française

Réf IPERIA : MILDS

Durée : 40 heures

 

Dates :

 	samedi 09 septembre 2017
 	samedi 30 septembre 2017
 	samedi 14 octobre 2017
 	samedi 25 novembre 2017
 	samedi 9 décembre 2017

Horaires : 9h-12h et 13h-18h

Référent de la formation : Denis PENNEC : 05 46 55 14 70

Vous êtes assistant(e) maternel(le) et vous voulez vous inscrire à  cette formation :

Bulletin d\'inscription IPERIA

Ce stage est animé par Marie-Laure et organisé avec les RAM de Poitiers

Programme de la formation : IPERIA - MILDS

Cette formation vous intéresse et vous voulez nous contacter :

Utilisez notre fiche contact
DTEND:20170930T180000
DTSTAMP:20260423T110533
DTSTART:20170930T090000
LAST-MODIFIED:20091109T101015Z
LOCATION:Hôtel IBIS Beaulieu, 1 rue du Bois Dousset, Poitiers, , 86000
SUMMARY;LANGUAGE=en-us:Stage  - La langue des signes française - MILDS - 2e séance / 5
BEGIN:VALARM
TRIGGER:-PT1440M
ACTION:DISPLAY
DESCRIPTION:Reminder
END:VALARM
END:VEVENT
END:VCALENDAR
