BEGIN:VCALENDAR
BEGIN:VEVENT
CLASS:PUBLIC
CREATED:20260423T112736
DESCRIPTION: 

Prendre soin de soi pour prendre soin des autres

Réf IPERIA : MIPSS

Durée : 16 heures

 

Dates :

 	samedi 07 octobre 2017
 	samedi 14 octobre 2017

Référent de la formation : Denis Pennec - 05 46 55 14 70

Programme de la formation : IPERIA - MIPSS

Cette formation vous intéresse et vous voulez nous contacter :

Utilisez notre fiche contact

Vous êtes assistant(e) maternel(le) et vous voulez vous inscrire à cette formation :

Bulletin d\'inscription IPERIA
DTEND:20171014T180000
DTSTAMP:20260423T112736
DTSTART:20171014T090000
LAST-MODIFIED:20091109T101015Z
LOCATION:Hotel IBIS Beaulieu, 1 rue du Bois Dousset, Poitiers, , 86000
SUMMARY;LANGUAGE=en-us:Stage - Prendre soin de soi... - 2e séance / 2
BEGIN:VALARM
TRIGGER:-PT1440M
ACTION:DISPLAY
DESCRIPTION:Reminder
END:VALARM
END:VEVENT
END:VCALENDAR
