BEGIN:VCALENDAR
BEGIN:VEVENT
CLASS:PUBLIC
CREATED:20260423T222127
DESCRIPTION: 

Eveil musical

Réf IPERIA : MIEM

Durée : 16 heures

Dates :

 	samedi 10 septembre 2016
 	samedi 08 octobre 2016

Programme de la formation : IPERIA - MIEM

Cette formation vous intéresse et vous voulez nous contacter :

Utilisez notre fiche contact
DTEND:20160910T180000
DTSTAMP:20260423T222127
DTSTART:20160910T090000
LAST-MODIFIED:20091109T101015Z
LOCATION:Salle Gaston Gaillard, Rue Gaston Gaillard, Lagord, , 
SUMMARY;LANGUAGE=en-us:Stage - Eveil musical - MIEM - 1ère séance / 2
BEGIN:VALARM
TRIGGER:-PT1440M
ACTION:DISPLAY
DESCRIPTION:Reminder
END:VALARM
END:VEVENT
END:VCALENDAR
