BEGIN:VCALENDAR
BEGIN:VEVENT
CLASS:PUBLIC
CREATED:20260423T111205
DESCRIPTION:Création de supports ludiques et éveil sensoriel

Réf IPERIA : 2017 MILES

Durée : 16 heures

 

Dates :

 	samedi 09 septembre 2017
 	samedi 23 septembre 2017

Horaires : 9h-12h et 13h-18h

Référent de la formation : Aurélian Bellou-Bousselaire - responsable pédagogique : 05 46 55 14 70

Programme de la formation : IPERIA - MILES2017

Cette formation vous intéresse et vous voulez nous contacter :

Utilisez notre fiche contact

Vous êtes assistant(e) maternel(le) et vous voulez vous inscrire à cette formation :

Bulletin d\'inscription IPERIA

Ce stage est animé par Bruno Benoist : Site de Bruno Benoist
DTEND:20170909T180000
DTSTAMP:20260423T111205
DTSTART:20170909T090000
LAST-MODIFIED:20091109T101015Z
LOCATION:Hotel IBIS, 1 rue Dousset, Poitiers, , 86000
SUMMARY;LANGUAGE=en-us:Stage - Supports ludiques et éveil sensoriel-2017MILES - 1ère séance / 2
BEGIN:VALARM
TRIGGER:-PT1440M
ACTION:DISPLAY
DESCRIPTION:Reminder
END:VALARM
END:VEVENT
END:VCALENDAR
