BEGIN:VCALENDAR
BEGIN:VEVENT
CLASS:PUBLIC
CREATED:20260423T110534
DESCRIPTION:Eveil sportif et motricité \"Accompagner l\'évolution psychomotrice du jeune enfant\"

Réf IPERIA : MISMP2017

Durée : 16 heures

Dates :

 	samedi 23 septembre 2017
 	samedi 07 octobre 2017

Horaires : 9h-12h et 13h-18h

Référent de la formation : Aurélian Bellou-Bousselaire - responsable pédagogique : 05 46 55 14 70

Programme de la formation : IPERIA - MISMP2017

Cette formation vous intéresse et vous voulez nous contacter :

Utilisez notre fiche contact

Vous êtes assistant(e) maternel(le) et vous voulez vous inscrire à cette formation :

Bulletin d\'inscription IPERIA
DTEND:20170923T180000
DTSTAMP:20260423T110534
DTSTART:20170923T090000
LAST-MODIFIED:20091109T101015Z
LOCATION:Salle à préciser ultérieurement, , Poitiers, , 86000
SUMMARY;LANGUAGE=en-us:Eveil sportif et motricité-MISMP2017- 1e séance / 2
BEGIN:VALARM
TRIGGER:-PT1440M
ACTION:DISPLAY
DESCRIPTION:Reminder
END:VALARM
END:VEVENT
END:VCALENDAR
