BEGIN:VCALENDAR
BEGIN:VEVENT
CLASS:PUBLIC
CREATED:20260423T111737
DESCRIPTION:Gestion du stress et relaxation

Réf IPERIA : MISR2017

Durée : 16 heures

 

Dates :

 	samedi 09 septembre 2017
 	samedi 30 septembre 2017

Horaires : 9h-12h et 13h-18h

Référent de la formation : Aurélian Bellou-Bousselaire - responsable pédagogique : 05 46 55 14 70

Programme de la formation : IPERIA - MISR2017

Cette formation vous intéresse et vous voulez nous contacter :

Utilisez notre fiche contact

Vous êtes assistant(e) maternel(le) et vous voulez vous inscrire à cette formation :

Bulletin d\'inscription IPERIA
DTEND:20170909T180000
DTSTAMP:20260423T111737
DTSTART:20170909T090000
LAST-MODIFIED:20091109T101015Z
LOCATION:Salle Gaston Gaillard, 7 rue Gaston Gaillard, Lagord, , 17140
SUMMARY;LANGUAGE=en-us:Stage - Gestion du stress et relaxation - MISR2017- 1e séance / 2
BEGIN:VALARM
TRIGGER:-PT1440M
ACTION:DISPLAY
DESCRIPTION:Reminder
END:VALARM
END:VEVENT
END:VCALENDAR
