BEGIN:VCALENDAR
BEGIN:VEVENT
CLASS:PUBLIC
CREATED:20260423T094658
DESCRIPTION: 

L\'apprentissage de la langue des signes française

Réf IPERIA : MILDS

Durée : 40 heures

Dates :

 	samedi 16 septembre 2017
 	samedi 07 octobre 2017
 	samedi 18 novembre 2017
 	samedi 02 décembre 2017
 	samedi 16 décembre 2017

Horaires : 9h-12h et 13h-18h

Référent de la formation : Denis PENNEC : 05 46 55 14 70

Vous êtes assistant(e) maternel(le) et vous voulez vous inscrire à  cette formation :

Bulletin d\'inscription IPERIA

Ce stage est animé par Marie-Laure et organisé avec Sylvie Ferrand (relais Pic et plume - Couhé)

Programme de la formation : IPERIA - MILDS

Cette formation vous intéresse et vous voulez nous contacter :

Utilisez notre fiche contact
DTEND:20171216T180000
DTSTAMP:20260423T094658
DTSTART:20171216T090000
LAST-MODIFIED:20091109T101015Z
LOCATION:RAM, Avenue de Paris, Couhé, , 86700
SUMMARY;LANGUAGE=en-us:Stage  - La langue des signes française - MILDS - 5e séance / 5
BEGIN:VALARM
TRIGGER:-PT1440M
ACTION:DISPLAY
DESCRIPTION:Reminder
END:VALARM
END:VEVENT
END:VCALENDAR
