BEGIN:VCALENDAR
BEGIN:VEVENT
CLASS:PUBLIC
CREATED:20260423T221352
DESCRIPTION: 

S&#039;Occuper d&#039;un enfant en situation de handicap

Réf IPERIA : MIEH

Durée : 24 heures

Dates :

 	samedi 10 septembre 2016
 	samedi 24 septembre 2016
 	samedi 08 octobre 2016

Programme de la formation : IPERIA - MIEH

Cette formation vous intéresse et vous voulez nous contacter :

Utilisez notre fiche contact
DTEND:20160910T180000
DTSTAMP:20260423T221352
DTSTART:20160910T090000
LAST-MODIFIED:20091109T101015Z
LOCATION:Pôle enfance, Rue des écoles, Aigrefeuille d'Aunis, , 17290
SUMMARY;LANGUAGE=en-us:Stage - Handicap - MIEH - 1ère séance / 3
BEGIN:VALARM
TRIGGER:-PT1440M
ACTION:DISPLAY
DESCRIPTION:Reminder
END:VALARM
END:VEVENT
END:VCALENDAR
